BEGIN:VCALENDAR
PRODID:-//DK Dąb//NONSGML Kalendarium wydarzeń//PL
VERSION:2.0
BEGIN:VEVENT
UID:35343168-7474-4073-ba2f-2f7777772e64
DTSTAMP:20260424T081142Z
DTSTART:20260418T080000Z
DTEND:20260418T215959Z
SUMMARY:Warsztaty plenerowe - śląska mozaika
BEGIN:VALARM
ACTION:DISPLAY
DESCRIPTION:Warsztaty plenerowe - śląska mozaika
TRIGGER:-PT60M
END:VALARM
END:VEVENT
END:VCALENDAR
