BEGIN:VCALENDAR
PRODID:-//DK Dąb//NONSGML Kalendarium wydarzeń//PL
VERSION:2.0
BEGIN:VEVENT
UID:35333768-7474-4073-ba2f-2f7777772e64
DTSTAMP:20260424T081142Z
DTSTART:20260411T130000Z
DTEND:20260411T215959Z
SUMMARY:Heklowanie - warsztaty
BEGIN:VALARM
ACTION:DISPLAY
DESCRIPTION:Heklowanie - warsztaty
TRIGGER:-PT60M
END:VALARM
END:VEVENT
END:VCALENDAR
