BEGIN:VCALENDAR
PRODID:-//DK Dąb//NONSGML Kalendarium wydarzeń//PL
VERSION:2.0
BEGIN:VEVENT
UID:34393768-7474-4073-ba2f-2f7777772e64
DTSTAMP:20260424T081141Z
DTSTART:20251026T150000Z
DTEND:20251026T215959Z
SUMMARY:ZMIANA TERMINU Warsztaty dla dzieci - bransoletki z muliny
BEGIN:VALARM
ACTION:DISPLAY
DESCRIPTION:ZMIANA TERMINU Warsztaty dla dzieci - bransoletki z muliny
TRIGGER:-PT60M
END:VALARM
END:VEVENT
END:VCALENDAR
